BEGIN:VCALENDAR
VERSION:2.0
PRODID:-//Dorfgemeinschaft Hülsenbusch - ECPv6.15.14//NONSGML v1.0//EN
CALSCALE:GREGORIAN
METHOD:PUBLISH
X-ORIGINAL-URL:https://www.dorf-huelsenbusch.de
X-WR-CALDESC:Veranstaltungen für Dorfgemeinschaft Hülsenbusch
REFRESH-INTERVAL;VALUE=DURATION:PT1H
X-Robots-Tag:noindex
X-PUBLISHED-TTL:PT1H
BEGIN:VTIMEZONE
TZID:Europe/Berlin
BEGIN:DAYLIGHT
TZOFFSETFROM:+0100
TZOFFSETTO:+0200
TZNAME:CEST
DTSTART:20180325T010000
END:DAYLIGHT
BEGIN:STANDARD
TZOFFSETFROM:+0200
TZOFFSETTO:+0100
TZNAME:CET
DTSTART:20181028T010000
END:STANDARD
BEGIN:DAYLIGHT
TZOFFSETFROM:+0100
TZOFFSETTO:+0200
TZNAME:CEST
DTSTART:20190331T010000
END:DAYLIGHT
BEGIN:STANDARD
TZOFFSETFROM:+0200
TZOFFSETTO:+0100
TZNAME:CET
DTSTART:20191027T010000
END:STANDARD
BEGIN:DAYLIGHT
TZOFFSETFROM:+0100
TZOFFSETTO:+0200
TZNAME:CEST
DTSTART:20200329T010000
END:DAYLIGHT
BEGIN:STANDARD
TZOFFSETFROM:+0200
TZOFFSETTO:+0100
TZNAME:CET
DTSTART:20201025T010000
END:STANDARD
END:VTIMEZONE
BEGIN:VEVENT
DTSTART;TZID=Europe/Berlin:20191204T180000
DTEND;TZID=Europe/Berlin:20191204T190000
DTSTAMP:20260419T194000
CREATED:20191012T093012Z
LAST-MODIFIED:20191012T093012Z
UID:2628-1575482400-1575486000@www.dorf-huelsenbusch.de
SUMMARY:4. Adventsfenster in der Grundschule Hülsenbusch
DESCRIPTION:Grundschule Hülsenbusch\, Waldweg 8\, Wegescheid
URL:https://www.dorf-huelsenbusch.de/event/4-adventsfenster-in-der-grundschule-huelsenbusch/
LOCATION:GGS Hülsenbusch\, Waldweg 8\, Gummersbach\, 51647\, Deutschland
END:VEVENT
BEGIN:VEVENT
DTSTART;TZID=Europe/Berlin:20191205T180000
DTEND;TZID=Europe/Berlin:20191205T190000
DTSTAMP:20260419T194000
CREATED:20191013T190200Z
LAST-MODIFIED:20191013T190200Z
UID:2650-1575568800-1575572400@www.dorf-huelsenbusch.de
SUMMARY:5. Adventsfenster bei Familie Böckamp-Heiner
DESCRIPTION:Zur Gummershardt 4\, Hülsenbusch
URL:https://www.dorf-huelsenbusch.de/event/5-adventsfenster-bei-familie-boeckamp-heiner/
END:VEVENT
BEGIN:VEVENT
DTSTART;TZID=Europe/Berlin:20191206T180000
DTEND;TZID=Europe/Berlin:20191206T190000
DTSTAMP:20260419T194000
CREATED:20190915T110201Z
LAST-MODIFIED:20190915T110227Z
UID:2557-1575655200-1575658800@www.dorf-huelsenbusch.de
SUMMARY:6. Adventsfenster beim Schützenverein Hülsenbusch
DESCRIPTION:Schützenhalle Hülsenbusch
URL:https://www.dorf-huelsenbusch.de/event/6-advendsfenster-beim-schuetzenverein-huelsenbusch/
LOCATION:Schützenhalle Hülsenbusch\, Zur Gummershardt\, Gummersbach\, 51647\, Deutschland
END:VEVENT
BEGIN:VEVENT
DTSTART;TZID=Europe/Berlin:20191208T160000
DTEND;TZID=Europe/Berlin:20191208T170000
DTSTAMP:20260419T194000
CREATED:20190915T114549Z
LAST-MODIFIED:20190915T114549Z
UID:2574-1575820800-1575824400@www.dorf-huelsenbusch.de
SUMMARY:Adventsgottesdienst
DESCRIPTION:
URL:https://www.dorf-huelsenbusch.de/event/adventsgottesdienst/
LOCATION:ev. Kirche Hülsenbusch\, Schwarzenberger Str 43\, Gummersbach\, 51647
ORGANIZER;CN="evangelische Kirchengemeinde H%C3%BClsenbusch":MAILTO:huelsenbusch@ekir.de
END:VEVENT
BEGIN:VEVENT
DTSTART;TZID=Europe/Berlin:20191208T170000
DTEND;TZID=Europe/Berlin:20191208T180000
DTSTAMP:20260419T194000
CREATED:20190915T110357Z
LAST-MODIFIED:20190915T110357Z
UID:2562-1575824400-1575828000@www.dorf-huelsenbusch.de
SUMMARY:Adventstreffen Hülsenbusch
DESCRIPTION:Gemeinsames Glühweintrinken unterm Dorfweihnachtsbaum
URL:https://www.dorf-huelsenbusch.de/event/adventstreffen-huelsenbusch/
LOCATION:Otto-Gebühr-Platz\, Otto-Gebühr-Platz\, Gummersbach\, NRW\, 51647\, Deutschland
END:VEVENT
BEGIN:VEVENT
DTSTART;TZID=Europe/Berlin:20191209T173000
DTEND;TZID=Europe/Berlin:20191209T183000
DTSTAMP:20260419T194000
CREATED:20191101T150140Z
LAST-MODIFIED:20191101T150140Z
UID:2671-1575912600-1575916200@www.dorf-huelsenbusch.de
SUMMARY:9. Adventsfenster im Kindergarten
DESCRIPTION:Hülsenbusch\, AWO-Kita Käthe Frankenthal\, Hülsenweg 17 \nACHTUNG! Beginn: 17:30 Uhr
URL:https://www.dorf-huelsenbusch.de/event/9-adventsfenster-im-kindergarten/
END:VEVENT
BEGIN:VEVENT
DTSTART;TZID=Europe/Berlin:20191210T180000
DTEND;TZID=Europe/Berlin:20191210T190000
DTSTAMP:20260419T194000
CREATED:20191003T085311Z
LAST-MODIFIED:20191003T085311Z
UID:2621-1576000800-1576004400@www.dorf-huelsenbusch.de
SUMMARY:10. Adventsfenster in Haus Tannenberg
DESCRIPTION:Haus Tannenberg\, Berghausen
URL:https://www.dorf-huelsenbusch.de/event/10-adventsfenster-in-haus-tannenberg/
END:VEVENT
BEGIN:VEVENT
DTSTART;TZID=Europe/Berlin:20191211T180000
DTEND;TZID=Europe/Berlin:20191211T230000
DTSTAMP:20260419T194000
CREATED:20190915T110604Z
LAST-MODIFIED:20190915T110604Z
UID:2564-1576087200-1576105200@www.dorf-huelsenbusch.de
SUMMARY:11. Adventsfenster in der Dorfkneipe
DESCRIPTION:anschließend Konzert Ballad of Crows
URL:https://www.dorf-huelsenbusch.de/event/11-adventsfenster-in-der-dorfkneipe/
LOCATION:Gaststätte Jäger eG\, Schwarzenberger Str. 41\, Gummersbach\, 51647
ORGANIZER;CN="Gastst%C3%A4tte J%C3%A4ger eG":MAILTO:ichmachmit@vir2al.de
END:VEVENT
BEGIN:VEVENT
DTSTART;TZID=Europe/Berlin:20191212T180000
DTEND;TZID=Europe/Berlin:20191212T190000
DTSTAMP:20260419T194000
CREATED:20191013T190356Z
LAST-MODIFIED:20191013T190356Z
UID:2652-1576173600-1576177200@www.dorf-huelsenbusch.de
SUMMARY:12. Adventsfenster bei Familie Asbach
DESCRIPTION:Nordheller Weg 1a\, Obergelpe
URL:https://www.dorf-huelsenbusch.de/event/12-adventsfenster-bei-familie-asbach/
END:VEVENT
BEGIN:VEVENT
DTSTART;TZID=Europe/Berlin:20191213T180000
DTEND;TZID=Europe/Berlin:20191213T190000
DTSTAMP:20260419T194000
CREATED:20190915T110741Z
LAST-MODIFIED:20190915T110741Z
UID:2566-1576260000-1576263600@www.dorf-huelsenbusch.de
SUMMARY:13. Adventsfenster  beim TV Gelpetal
DESCRIPTION:Sporthalle oder Clubhaus in Nochen/ Peisel
URL:https://www.dorf-huelsenbusch.de/event/13-adventsfenster-beim-tv-gelpetal/
END:VEVENT
BEGIN:VEVENT
DTSTART;TZID=Europe/Berlin:20191214T180000
DTEND;TZID=Europe/Berlin:20191214T220000
DTSTAMP:20260419T194000
CREATED:20190915T185128Z
LAST-MODIFIED:20190915T185128Z
UID:2598-1576346400-1576360800@www.dorf-huelsenbusch.de
SUMMARY:14. Adventsfenster in der Kurve
DESCRIPTION:Kurvengemeinschaft Hülsenweg feiert in der Kurve
URL:https://www.dorf-huelsenbusch.de/event/14-adventsfenster-in-der-kurve/
END:VEVENT
BEGIN:VEVENT
DTSTART;TZID=Europe/Berlin:20191215T180000
DTEND;TZID=Europe/Berlin:20191215T190000
DTSTAMP:20260419T194000
CREATED:20191012T093209Z
LAST-MODIFIED:20191012T093220Z
UID:2630-1576432800-1576436400@www.dorf-huelsenbusch.de
SUMMARY:15. Adventsfenster bei Familie L
DESCRIPTION:Zum Anger 9\, Hülsenbusch \nAchtung\, Straße ist unbeleuchtet\, Taschenlampe mitbringen!
URL:https://www.dorf-huelsenbusch.de/event/15-adventsfenster-bei-familie-l/
END:VEVENT
BEGIN:VEVENT
DTSTART;TZID=Europe/Berlin:20191216T180000
DTEND;TZID=Europe/Berlin:20191216T190000
DTSTAMP:20260419T194000
CREATED:20190928T083909Z
LAST-MODIFIED:20190928T083909Z
UID:2617-1576519200-1576522800@www.dorf-huelsenbusch.de
SUMMARY:16. Adventsfenster bei Familie van der Wal
DESCRIPTION:altes Pfarrhaus Hülsenbusch
URL:https://www.dorf-huelsenbusch.de/event/16-adventsfenster-bei-familie-van-der-wal/
END:VEVENT
BEGIN:VEVENT
DTSTART;TZID=Europe/Berlin:20191217T180000
DTEND;TZID=Europe/Berlin:20191217T190000
DTSTAMP:20260419T194000
CREATED:20191127T171312Z
LAST-MODIFIED:20191127T171826Z
UID:2729-1576605600-1576609200@www.dorf-huelsenbusch.de
SUMMARY:17. Adventsfenster bei Familie Pondruff
DESCRIPTION:Osterhofstr. 11\, Obergelpe
URL:https://www.dorf-huelsenbusch.de/event/17-adventsfenster-bei-familie-pondruff/
END:VEVENT
BEGIN:VEVENT
DTSTART;TZID=Europe/Berlin:20191218T180000
DTEND;TZID=Europe/Berlin:20191218T190000
DTSTAMP:20260419T194000
CREATED:20190915T110854Z
LAST-MODIFIED:20190922T190859Z
UID:2568-1576692000-1576695600@www.dorf-huelsenbusch.de
SUMMARY:18. Adventsfenster bei Familie Schmidt
DESCRIPTION:Strünkenweg 1\, Lützinghausen
URL:https://www.dorf-huelsenbusch.de/event/18-adventsfenster-bei-familie-schmidt/
END:VEVENT
BEGIN:VEVENT
DTSTART;TZID=Europe/Berlin:20191220T180000
DTEND;TZID=Europe/Berlin:20191220T190000
DTSTAMP:20260419T194000
CREATED:20191017T182918Z
LAST-MODIFIED:20191017T182918Z
UID:2660-1576864800-1576868400@www.dorf-huelsenbusch.de
SUMMARY:20. Adventsfenster bei Familie Ihlenfeldt
DESCRIPTION:Alte Schule Wegescheid
URL:https://www.dorf-huelsenbusch.de/event/20-adventsfenster-bei-familie-ihlenfeldt/
END:VEVENT
BEGIN:VEVENT
DTSTART;TZID=Europe/Berlin:20191221T180000
DTEND;TZID=Europe/Berlin:20191221T190000
DTSTAMP:20260419T194000
CREATED:20190922T190837Z
LAST-MODIFIED:20190922T190956Z
UID:2604-1576951200-1576954800@www.dorf-huelsenbusch.de
SUMMARY:21. Adventsfenster bei Familie Simon-Döhl
DESCRIPTION:Schwarzenberger Str. 8\, Hülsenbusch
URL:https://www.dorf-huelsenbusch.de/event/21-adventsfenster-bei-familie-simon-doehl/
END:VEVENT
BEGIN:VEVENT
DTSTART;TZID=Europe/Berlin:20191222T180000
DTEND;TZID=Europe/Berlin:20191222T190000
DTSTAMP:20260419T194000
CREATED:20190915T115002Z
LAST-MODIFIED:20190922T190746Z
UID:2576-1577037600-1577041200@www.dorf-huelsenbusch.de
SUMMARY:22. Adventsfenster bei Familie Knabe-Bassfeld
DESCRIPTION:An der Aussicht 17\, Hülsenbusch
URL:https://www.dorf-huelsenbusch.de/event/22-adventsfenster-bei-familie-knabe-bassfeld/
END:VEVENT
BEGIN:VEVENT
DTSTART;TZID=Europe/Berlin:20191223T180000
DTEND;TZID=Europe/Berlin:20191223T190000
DTSTAMP:20260419T194000
CREATED:20190915T115326Z
LAST-MODIFIED:20190922T190654Z
UID:2578-1577124000-1577127600@www.dorf-huelsenbusch.de
SUMMARY:23. Adventsfenster bei Familie Brand-Kiebler
DESCRIPTION:Schwarzenberger Str. 45\, Hülsenbusch \n – garantiert ohne Glühwein.
URL:https://www.dorf-huelsenbusch.de/event/23-adventsfenster-bei-familie-brand-kiebler/
END:VEVENT
BEGIN:VEVENT
DTSTART;TZID=Europe/Berlin:20191224T160000
DTEND;TZID=Europe/Berlin:20191224T170000
DTSTAMP:20260419T194000
CREATED:20190915T111014Z
LAST-MODIFIED:20190915T111014Z
UID:2570-1577203200-1577206800@www.dorf-huelsenbusch.de
SUMMARY:Weihnachtsgottesdienst
DESCRIPTION:
URL:https://www.dorf-huelsenbusch.de/event/weihnachtsgottesdienst/
END:VEVENT
END:VCALENDAR