BEGIN:VCALENDAR
VERSION:2.0
PRODID:-//Dorfgemeinschaft Hülsenbusch - ECPv6.15.14//NONSGML v1.0//EN
CALSCALE:GREGORIAN
METHOD:PUBLISH
X-WR-CALNAME:Dorfgemeinschaft Hülsenbusch
X-ORIGINAL-URL:https://www.dorf-huelsenbusch.de
X-WR-CALDESC:Veranstaltungen für Dorfgemeinschaft Hülsenbusch
REFRESH-INTERVAL;VALUE=DURATION:PT1H
X-Robots-Tag:noindex
X-PUBLISHED-TTL:PT1H
BEGIN:VTIMEZONE
TZID:Europe/Berlin
BEGIN:DAYLIGHT
TZOFFSETFROM:+0100
TZOFFSETTO:+0200
TZNAME:CEST
DTSTART:20180325T010000
END:DAYLIGHT
BEGIN:STANDARD
TZOFFSETFROM:+0200
TZOFFSETTO:+0100
TZNAME:CET
DTSTART:20181028T010000
END:STANDARD
BEGIN:DAYLIGHT
TZOFFSETFROM:+0100
TZOFFSETTO:+0200
TZNAME:CEST
DTSTART:20190331T010000
END:DAYLIGHT
BEGIN:STANDARD
TZOFFSETFROM:+0200
TZOFFSETTO:+0100
TZNAME:CET
DTSTART:20191027T010000
END:STANDARD
BEGIN:DAYLIGHT
TZOFFSETFROM:+0100
TZOFFSETTO:+0200
TZNAME:CEST
DTSTART:20200329T010000
END:DAYLIGHT
BEGIN:STANDARD
TZOFFSETFROM:+0200
TZOFFSETTO:+0100
TZNAME:CET
DTSTART:20201025T010000
END:STANDARD
END:VTIMEZONE
BEGIN:VEVENT
DTSTART;TZID=Europe/Berlin:20191108T173000
DTEND;TZID=Europe/Berlin:20191108T190000
DTSTAMP:20260419T212835
CREATED:20191101T153342Z
LAST-MODIFIED:20191101T153342Z
UID:2681-1573234200-1573239600@www.dorf-huelsenbusch.de
SUMMARY:St. Martin mit Laternenumzug
DESCRIPTION:Start: in der Kirche\, danach Laternenumzug zur Grundschule
URL:https://www.dorf-huelsenbusch.de/event/st-martin-mit-laternenumzug/
LOCATION:ev. Kirche Hülsenbusch\, Schwarzenberger Str 43\, Gummersbach\, 51647
END:VEVENT
BEGIN:VEVENT
DTSTART;TZID=Europe/Berlin:20191113T180000
DTEND;TZID=Europe/Berlin:20191113T220000
DTSTAMP:20260419T212835
CREATED:20191101T153153Z
LAST-MODIFIED:20191101T153153Z
UID:2679-1573668000-1573682400@www.dorf-huelsenbusch.de
SUMMARY:Le Clou á 3 mit Steve Crawford
DESCRIPTION:Am 13.11. wird es wieder musikalisch. Es gibt Cajun-Music aus den Südstaaten – und an der Gitarre unser Lieblings-Schotte Steven Crawford 
URL:https://www.dorf-huelsenbusch.de/event/le-clou-a-3-mit-steve-crawford/
LOCATION:Gaststätte Jäger eG\, Schwarzenberger Str. 41\, Gummersbach\, 51647
END:VEVENT
BEGIN:VEVENT
DTSTART;TZID=Europe/Berlin:20191117T093000
DTEND;TZID=Europe/Berlin:20191117T103000
DTSTAMP:20260419T212835
CREATED:20191101T153446Z
LAST-MODIFIED:20191101T153536Z
UID:2683-1573983000-1573986600@www.dorf-huelsenbusch.de
SUMMARY:Bittgottesdienst für den Frieden am Volkstrauertag
DESCRIPTION:
URL:https://www.dorf-huelsenbusch.de/event/bittgottesdienst-fuer-den-frieden-am-volkstrauertag/
LOCATION:ev. Kirche Hülsenbusch\, Schwarzenberger Str 43\, Gummersbach\, 51647
END:VEVENT
BEGIN:VEVENT
DTSTART;TZID=Europe/Berlin:20191130T140000
DTEND;TZID=Europe/Berlin:20191130T220000
DTSTAMP:20260419T212835
CREATED:20190915T112314Z
LAST-MODIFIED:20190915T114444Z
UID:2572-1575122400-1575151200@www.dorf-huelsenbusch.de
SUMMARY:Weihnachtsbaum aufstellen
DESCRIPTION:wie immer ab 14 Uhr Baum fällen\, ranschaffen\, aufstellen\, Lichterketten dranhängen \ndanach ab ca. 17:30 Uhr gemeinsames Grünkohlessen \nWer dabei sein will\, zur Planung bitte bei Lutz Ihlenfeldt melden\, T 0173.2729234
URL:https://www.dorf-huelsenbusch.de/event/weihnachtsbaum-aufstellen/
LOCATION:Otto-Gebühr-Platz\, Otto-Gebühr-Platz\, Gummersbach\, NRW\, 51647\, Deutschland
END:VEVENT
END:VCALENDAR