BEGIN:VCALENDAR
VERSION:2.0
PRODID:-//Dorfgemeinschaft Hülsenbusch - ECPv6.15.14//NONSGML v1.0//EN
CALSCALE:GREGORIAN
METHOD:PUBLISH
X-ORIGINAL-URL:https://www.dorf-huelsenbusch.de
X-WR-CALDESC:Veranstaltungen für Dorfgemeinschaft Hülsenbusch
REFRESH-INTERVAL;VALUE=DURATION:PT1H
X-Robots-Tag:noindex
X-PUBLISHED-TTL:PT1H
BEGIN:VTIMEZONE
TZID:Europe/Berlin
BEGIN:DAYLIGHT
TZOFFSETFROM:+0100
TZOFFSETTO:+0200
TZNAME:CEST
DTSTART:20180325T010000
END:DAYLIGHT
BEGIN:STANDARD
TZOFFSETFROM:+0200
TZOFFSETTO:+0100
TZNAME:CET
DTSTART:20181028T010000
END:STANDARD
BEGIN:DAYLIGHT
TZOFFSETFROM:+0100
TZOFFSETTO:+0200
TZNAME:CEST
DTSTART:20190331T010000
END:DAYLIGHT
BEGIN:STANDARD
TZOFFSETFROM:+0200
TZOFFSETTO:+0100
TZNAME:CET
DTSTART:20191027T010000
END:STANDARD
BEGIN:DAYLIGHT
TZOFFSETFROM:+0100
TZOFFSETTO:+0200
TZNAME:CEST
DTSTART:20200329T010000
END:DAYLIGHT
BEGIN:STANDARD
TZOFFSETFROM:+0200
TZOFFSETTO:+0100
TZNAME:CET
DTSTART:20201025T010000
END:STANDARD
END:VTIMEZONE
BEGIN:VEVENT
DTSTART;TZID=Europe/Berlin:20190824T160000
DTEND;TZID=Europe/Berlin:20190824T220000
DTSTAMP:20260420T015146
CREATED:20190709T190147Z
LAST-MODIFIED:20190709T190147Z
UID:2489-1566662400-1566684000@www.dorf-huelsenbusch.de
SUMMARY:Sommernachts-Flohmarkt
DESCRIPTION:Am Samstag den 24. August 2019\, in der Zeit von 16-22 Uhr ist auf dem Gelände der Schützenhalle ein Sommernachts-Flohmarkt geplant.\nEs gibt noch wenige freie Restplätze für potenzielle Verkäufer. (Nur privat\, nicht gewerblich)!\nWer interessiert ist an einer Verkäufer-Nr. meldet sich bitte mit Name und Adresse bei Nicole Weitzdörfer per what’s app unter 0160-6747075. \nEs soll ein bunter Abend zum stöbern\, essen\, trinken und fröhlich sein werden!
URL:https://www.dorf-huelsenbusch.de/event/sommernachts-flohmarkt/
LOCATION:Schützenhalle Hülsenbusch\, Zur Gummershardt\, Gummersbach\, 51647\, Deutschland
END:VEVENT
BEGIN:VEVENT
DTSTART;TZID=Europe/Berlin:20190827T190000
DTEND;TZID=Europe/Berlin:20190827T203000
DTSTAMP:20260420T015146
CREATED:20190614T175205Z
LAST-MODIFIED:20190614T175205Z
UID:2425-1566932400-1566937800@www.dorf-huelsenbusch.de
SUMMARY:Treffen aller Hülsenbuscher Vereine
DESCRIPTION:Themen: gemeinsame Festplanung\, Volkstrauertag
URL:https://www.dorf-huelsenbusch.de/event/treffen-aller-huelsenbuscher-vereine/
LOCATION:Gaststätte Jäger eG\, Schwarzenberger Str. 41\, Gummersbach\, 51647
END:VEVENT
BEGIN:VEVENT
DTSTART;TZID=Europe/Berlin:20190829T190000
DTEND;TZID=Europe/Berlin:20190829T203000
DTSTAMP:20260420T015146
CREATED:20190614T175023Z
LAST-MODIFIED:20190614T175023Z
UID:2423-1567105200-1567110600@www.dorf-huelsenbusch.de
SUMMARY:Kellerfest AG
DESCRIPTION:3. Planungstreffen für das Fest im April 2020
URL:https://www.dorf-huelsenbusch.de/event/kellerfest-ag-2/
LOCATION:Gaststätte Jäger eG\, Schwarzenberger Str. 41\, Gummersbach\, 51647
END:VEVENT
END:VCALENDAR