BEGIN:VCALENDAR
VERSION:2.0
PRODID:-//Dorfgemeinschaft Hülsenbusch - ECPv6.15.14//NONSGML v1.0//EN
CALSCALE:GREGORIAN
METHOD:PUBLISH
X-ORIGINAL-URL:https://www.dorf-huelsenbusch.de
X-WR-CALDESC:Veranstaltungen für Dorfgemeinschaft Hülsenbusch
REFRESH-INTERVAL;VALUE=DURATION:PT1H
X-Robots-Tag:noindex
X-PUBLISHED-TTL:PT1H
BEGIN:VTIMEZONE
TZID:Europe/Berlin
BEGIN:DAYLIGHT
TZOFFSETFROM:+0100
TZOFFSETTO:+0200
TZNAME:CEST
DTSTART:20180325T010000
END:DAYLIGHT
BEGIN:STANDARD
TZOFFSETFROM:+0200
TZOFFSETTO:+0100
TZNAME:CET
DTSTART:20181028T010000
END:STANDARD
BEGIN:DAYLIGHT
TZOFFSETFROM:+0100
TZOFFSETTO:+0200
TZNAME:CEST
DTSTART:20190331T010000
END:DAYLIGHT
BEGIN:STANDARD
TZOFFSETFROM:+0200
TZOFFSETTO:+0100
TZNAME:CET
DTSTART:20191027T010000
END:STANDARD
BEGIN:DAYLIGHT
TZOFFSETFROM:+0100
TZOFFSETTO:+0200
TZNAME:CEST
DTSTART:20200329T010000
END:DAYLIGHT
BEGIN:STANDARD
TZOFFSETFROM:+0200
TZOFFSETTO:+0100
TZNAME:CET
DTSTART:20201025T010000
END:STANDARD
END:VTIMEZONE
BEGIN:VEVENT
DTSTART;TZID=Europe/Berlin:20190504T110000
DTEND;TZID=Europe/Berlin:20190504T170000
DTSTAMP:20260422T110452
CREATED:20190426T200339Z
LAST-MODIFIED:20190426T200339Z
UID:39-1556967600-1556989200@www.dorf-huelsenbusch.de
SUMMARY:Pflanzentauschbörse 2019
DESCRIPTION:Pflanzentauschbörse 2019
URL:https://www.dorf-huelsenbusch.de/event/pflanzentauschboerse-2019/
LOCATION:Otto-Gebühr-Platz\, Otto-Gebühr-Platz\, Gummersbach\, NRW\, 51647\, Deutschland
END:VEVENT
BEGIN:VEVENT
DTSTART;TZID=Europe/Berlin:20190504T180000
DTEND;TZID=Europe/Berlin:20190504T203000
DTSTAMP:20260422T110452
CREATED:20190426T201936Z
LAST-MODIFIED:20190426T202008Z
UID:48-1556992800-1557001800@www.dorf-huelsenbusch.de
SUMMARY:Erzählkonzert: Das Wasser des Lebens
DESCRIPTION:Märchen und Geschichten von der Quelle bis zum Meer\, \nRoswitha Harms\, Lorena Wolfewicz & Albertus Fabulator\n\nin der ev. Kirche ab 18 Uhr\, Eintritt frei\, Spenden erbeten\, \n\nim Anschluss gemütliches Beisammensein in der Gaststätte Jäger eG
URL:https://www.dorf-huelsenbusch.de/event/erzaehlkonzert-das-wasser-des-lebens/
LOCATION:ev. Kirche Hülsenbusch\, Schwarzenberger Str 43\, Gummersbach\, 51647
ORGANIZER;CN="evangelische Kirchengemeinde H%C3%BClsenbusch":MAILTO:huelsenbusch@ekir.de
END:VEVENT
BEGIN:VEVENT
DTSTART;TZID=Europe/Berlin:20190507T100000
DTEND;TZID=Europe/Berlin:20190507T140000
DTSTAMP:20260422T110452
CREATED:20190510T142740Z
LAST-MODIFIED:20190510T142818Z
UID:556-1557223200-1557237600@www.dorf-huelsenbusch.de
SUMMARY:Markt
DESCRIPTION:
URL:https://www.dorf-huelsenbusch.de/event/markt-2/
LOCATION:Otto-Gebühr-Platz\, Otto-Gebühr-Platz\, Gummersbach\, NRW\, 51647\, Deutschland
ATTACH;FMTTYPE=image/jpeg:https://www.dorf-huelsenbusch.de/wp-content/uploads/2019/04/Markt_Gemuese-e1556459271344.jpg
END:VEVENT
BEGIN:VEVENT
DTSTART;TZID=Europe/Berlin:20190507T200000
DTEND;TZID=Europe/Berlin:20190507T220000
DTSTAMP:20260422T110452
CREATED:20190428T165154Z
LAST-MODIFIED:20190507T151800Z
UID:447-1557259200-1557266400@www.dorf-huelsenbusch.de
SUMMARY:Logo & Medien AG
DESCRIPTION:
URL:https://www.dorf-huelsenbusch.de/event/medien-ag/
LOCATION:Gaststätte Jäger eG\, Schwarzenberger Str. 41\, Gummersbach\, 51647
END:VEVENT
BEGIN:VEVENT
DTSTART;VALUE=DATE:20190512
DTEND;VALUE=DATE:20190513
DTSTAMP:20260422T110452
CREATED:20190426T202548Z
LAST-MODIFIED:20190426T202548Z
UID:53-1557619200-1557705599@www.dorf-huelsenbusch.de
SUMMARY:SPORTEVENT: 39. Nordhellenlauf
DESCRIPTION:Details siehe Vereinshomepage
URL:https://www.dorf-huelsenbusch.de/event/sportevent-39-nordhellenlauf/
LOCATION:GGS Hülsenbusch\, Waldweg 8\, Gummersbach\, 51647\, Deutschland
ORGANIZER;CN="TV H%C3%BClsenbusch 1906 e.V.":MAILTO:vorsitzende@tvhuelsenbusch.de
END:VEVENT
BEGIN:VEVENT
DTSTART;TZID=Europe/Berlin:20190514T100000
DTEND;TZID=Europe/Berlin:20190514T140000
DTSTAMP:20260422T110452
CREATED:20190510T142907Z
LAST-MODIFIED:20190510T142907Z
UID:558-1557828000-1557842400@www.dorf-huelsenbusch.de
SUMMARY:Markt
DESCRIPTION:
URL:https://www.dorf-huelsenbusch.de/event/markt-3/
LOCATION:Otto-Gebühr-Platz\, Otto-Gebühr-Platz\, Gummersbach\, NRW\, 51647\, Deutschland
ATTACH;FMTTYPE=image/jpeg:https://www.dorf-huelsenbusch.de/wp-content/uploads/2019/04/Markt_Gemuese-e1556459271344.jpg
END:VEVENT
BEGIN:VEVENT
DTSTART;TZID=Europe/Berlin:20190521T100000
DTEND;TZID=Europe/Berlin:20190521T140000
DTSTAMP:20260422T110452
CREATED:20190510T143003Z
LAST-MODIFIED:20190520T121506Z
UID:560-1558432800-1558447200@www.dorf-huelsenbusch.de
SUMMARY:Marktfrühstück
DESCRIPTION:Es wird ein üppiges Frühstücksbuffet geben…
URL:https://www.dorf-huelsenbusch.de/event/markt-4/
LOCATION:Otto-Gebühr-Platz\, Otto-Gebühr-Platz\, Gummersbach\, NRW\, 51647\, Deutschland
ATTACH;FMTTYPE=image/jpeg:https://www.dorf-huelsenbusch.de/wp-content/uploads/2019/04/Markt_Gemuese-e1556459271344.jpg
END:VEVENT
BEGIN:VEVENT
DTSTART;TZID=Europe/Berlin:20190525T190000
DTEND;TZID=Europe/Berlin:20190525T230000
DTSTAMP:20260422T110452
CREATED:20190426T202839Z
LAST-MODIFIED:20190426T202839Z
UID:57-1558810800-1558825200@www.dorf-huelsenbusch.de
SUMMARY:Konzert: Puder - Catharina Boutari akustik
DESCRIPTION:
URL:https://www.dorf-huelsenbusch.de/event/konzert-puder-catharina-boutari-akustik/
LOCATION:Gaststätte Jäger eG\, Schwarzenberger Str. 41\, Gummersbach\, 51647
END:VEVENT
BEGIN:VEVENT
DTSTART;TZID=Europe/Berlin:20190526T170000
DTEND;TZID=Europe/Berlin:20190526T183000
DTSTAMP:20260422T110452
CREATED:20190507T151109Z
LAST-MODIFIED:20190507T151109Z
UID:508-1558890000-1558895400@www.dorf-huelsenbusch.de
SUMMARY:Konzertlesung "Geh' aus mein Herz und suche Freud..."
DESCRIPTION: \n \nOrgel- \, Klaviermusik und Lesung\,\nWerke von Bach\, Berwald\, Hesse und Rilke\nEintritt frei\, Spenden erwünscht
URL:https://www.dorf-huelsenbusch.de/event/konzertlesung-geh-aus-mein-herz-und-suche-freud/
LOCATION:ev. Kirche Hülsenbusch\, Schwarzenberger Str 43\, Gummersbach\, 51647
ORGANIZER;CN="evangelische Kirchengemeinde H%C3%BClsenbusch":MAILTO:huelsenbusch@ekir.de
END:VEVENT
BEGIN:VEVENT
DTSTART;TZID=Europe/Berlin:20190528T100000
DTEND;TZID=Europe/Berlin:20190528T140000
DTSTAMP:20260422T110452
CREATED:20190510T143043Z
LAST-MODIFIED:20190510T143043Z
UID:562-1559037600-1559052000@www.dorf-huelsenbusch.de
SUMMARY:Markt
DESCRIPTION:
URL:https://www.dorf-huelsenbusch.de/event/markt-5/
LOCATION:Otto-Gebühr-Platz\, Otto-Gebühr-Platz\, Gummersbach\, NRW\, 51647\, Deutschland
ATTACH;FMTTYPE=image/jpeg:https://www.dorf-huelsenbusch.de/wp-content/uploads/2019/04/Markt_Gemuese-e1556459271344.jpg
END:VEVENT
BEGIN:VEVENT
DTSTART;TZID=Europe/Berlin:20190530T100000
DTEND;TZID=Europe/Berlin:20190530T230000
DTSTAMP:20260422T110452
CREATED:20190511T084750Z
LAST-MODIFIED:20190516T143043Z
UID:1777-1559210400-1559257200@www.dorf-huelsenbusch.de
SUMMARY:VATERTAG in der Dorfkneipe
DESCRIPTION:Die Gaststätte Jäger eG hat heute ab 10 Uhr geöffnet. Im Laufe des Tages gibt es auch Kuchen der Bäckerei Schneider und Gegrilltes.
URL:https://www.dorf-huelsenbusch.de/event/vatertag-in-der-dorfkneipe/
LOCATION:Gaststätte Jäger eG\, Schwarzenberger Str. 41\, Gummersbach\, 51647
ORGANIZER;CN="Gastst%C3%A4tte J%C3%A4ger eG":MAILTO:ichmachmit@vir2al.de
END:VEVENT
BEGIN:VEVENT
DTSTART;TZID=Europe/Berlin:20190530T110000
DTEND;TZID=Europe/Berlin:20190530T170000
DTSTAMP:20260422T110452
CREATED:20190427T143007Z
LAST-MODIFIED:20190427T143007Z
UID:59-1559214000-1559235600@www.dorf-huelsenbusch.de
SUMMARY:Regionalgottesdienst im Grünen
DESCRIPTION:an Christi Himmelfahrt\, 11 Uhr\, Spielplatz Lützinghausen
URL:https://www.dorf-huelsenbusch.de/event/regionalgottesdienst-im-gruenen/
LOCATION:Spielplatz Lützinghausen\, Strünkenweg\, Gummersbach\, 51647\, Deutschland
ORGANIZER;CN="evangelische Kirchengemeinde H%C3%BClsenbusch":MAILTO:huelsenbusch@ekir.de
END:VEVENT
END:VCALENDAR