BEGIN:VCALENDAR
VERSION:2.0
PRODID:-//Dorfgemeinschaft Hülsenbusch - ECPv6.15.14//NONSGML v1.0//EN
CALSCALE:GREGORIAN
METHOD:PUBLISH
X-ORIGINAL-URL:https://www.dorf-huelsenbusch.de
X-WR-CALDESC:Veranstaltungen für Dorfgemeinschaft Hülsenbusch
REFRESH-INTERVAL;VALUE=DURATION:PT1H
X-Robots-Tag:noindex
X-PUBLISHED-TTL:PT1H
BEGIN:VTIMEZONE
TZID:Europe/Berlin
BEGIN:DAYLIGHT
TZOFFSETFROM:+0100
TZOFFSETTO:+0200
TZNAME:CEST
DTSTART:20180325T010000
END:DAYLIGHT
BEGIN:STANDARD
TZOFFSETFROM:+0200
TZOFFSETTO:+0100
TZNAME:CET
DTSTART:20181028T010000
END:STANDARD
BEGIN:DAYLIGHT
TZOFFSETFROM:+0100
TZOFFSETTO:+0200
TZNAME:CEST
DTSTART:20190331T010000
END:DAYLIGHT
BEGIN:STANDARD
TZOFFSETFROM:+0200
TZOFFSETTO:+0100
TZNAME:CET
DTSTART:20191027T010000
END:STANDARD
BEGIN:DAYLIGHT
TZOFFSETFROM:+0100
TZOFFSETTO:+0200
TZNAME:CEST
DTSTART:20200329T010000
END:DAYLIGHT
BEGIN:STANDARD
TZOFFSETFROM:+0200
TZOFFSETTO:+0100
TZNAME:CET
DTSTART:20201025T010000
END:STANDARD
END:VTIMEZONE
BEGIN:VEVENT
DTSTART;TZID=Europe/Berlin:20190928T153000
DTEND;TZID=Europe/Berlin:20190928T223000
DTSTAMP:20260420T022029
CREATED:20190915T104904Z
LAST-MODIFIED:20190915T104904Z
UID:2550-1569684600-1569709800@www.dorf-huelsenbusch.de
SUMMARY:Jubiläumsfeier 5-Jahresplan Gaststätte Jäger eG erfüllt
DESCRIPTION:Die Genossenschaftskneipe feiert. \nGenossen\, Hülsenbuscher und Freunde sind herzlich eingeladen. \nMit der Bigband Swingsound\, der Band Tily und Spedition Sack. \n 
URL:https://www.dorf-huelsenbusch.de/event/jubilaeumsfeier-5-jahresplan-gaststaette-jaeger-eg-erfuellt/
LOCATION:Otto-Gebühr-Platz\, Otto-Gebühr-Platz\, Gummersbach\, NRW\, 51647\, Deutschland
ORGANIZER;CN="Gastst%C3%A4tte J%C3%A4ger eG":MAILTO:ichmachmit@vir2al.de
END:VEVENT
END:VCALENDAR