BEGIN:VCALENDAR
VERSION:2.0
PRODID:-//Dorfgemeinschaft Hülsenbusch - ECPv6.15.14//NONSGML v1.0//EN
CALSCALE:GREGORIAN
METHOD:PUBLISH
X-WR-CALNAME:Dorfgemeinschaft Hülsenbusch
X-ORIGINAL-URL:https://www.dorf-huelsenbusch.de
X-WR-CALDESC:Veranstaltungen für Dorfgemeinschaft Hülsenbusch
REFRESH-INTERVAL;VALUE=DURATION:PT1H
X-Robots-Tag:noindex
X-PUBLISHED-TTL:PT1H
BEGIN:VTIMEZONE
TZID:Europe/Berlin
BEGIN:DAYLIGHT
TZOFFSETFROM:+0100
TZOFFSETTO:+0200
TZNAME:CEST
DTSTART:20180325T010000
END:DAYLIGHT
BEGIN:STANDARD
TZOFFSETFROM:+0200
TZOFFSETTO:+0100
TZNAME:CET
DTSTART:20181028T010000
END:STANDARD
BEGIN:DAYLIGHT
TZOFFSETFROM:+0100
TZOFFSETTO:+0200
TZNAME:CEST
DTSTART:20190331T010000
END:DAYLIGHT
BEGIN:STANDARD
TZOFFSETFROM:+0200
TZOFFSETTO:+0100
TZNAME:CET
DTSTART:20191027T010000
END:STANDARD
BEGIN:DAYLIGHT
TZOFFSETFROM:+0100
TZOFFSETTO:+0200
TZNAME:CEST
DTSTART:20200329T010000
END:DAYLIGHT
BEGIN:STANDARD
TZOFFSETFROM:+0200
TZOFFSETTO:+0100
TZNAME:CET
DTSTART:20201025T010000
END:STANDARD
END:VTIMEZONE
BEGIN:VEVENT
DTSTART;TZID=Europe/Berlin:20190927T173000
DTEND;TZID=Europe/Berlin:20190927T200000
DTSTAMP:20260420T021736
CREATED:20190915T154045Z
LAST-MODIFIED:20190915T154146Z
UID:2588-1569605400-1569614400@www.dorf-huelsenbusch.de
SUMMARY:Second Hand Basar
DESCRIPTION:Rund ums Kind. \nauch Samstag von 9:00 bis 10:30 Uhr
URL:https://www.dorf-huelsenbusch.de/event/second-hand-basar/
LOCATION:Schützenhalle Hülsenbusch\, Zur Gummershardt\, Gummersbach\, 51647\, Deutschland
ATTACH;FMTTYPE=image/jpeg:https://www.dorf-huelsenbusch.de/wp-content/uploads/2019/09/Basar-19.jpg
END:VEVENT
END:VCALENDAR