BEGIN:VCALENDAR
VERSION:2.0
PRODID:-//Dorfgemeinschaft Hülsenbusch - ECPv6.15.14//NONSGML v1.0//EN
CALSCALE:GREGORIAN
METHOD:PUBLISH
X-ORIGINAL-URL:https://www.dorf-huelsenbusch.de
X-WR-CALDESC:Veranstaltungen für Dorfgemeinschaft Hülsenbusch
REFRESH-INTERVAL;VALUE=DURATION:PT1H
X-Robots-Tag:noindex
X-PUBLISHED-TTL:PT1H
BEGIN:VTIMEZONE
TZID:Europe/Berlin
BEGIN:DAYLIGHT
TZOFFSETFROM:+0100
TZOFFSETTO:+0200
TZNAME:CEST
DTSTART:20180325T010000
END:DAYLIGHT
BEGIN:STANDARD
TZOFFSETFROM:+0200
TZOFFSETTO:+0100
TZNAME:CET
DTSTART:20181028T010000
END:STANDARD
BEGIN:DAYLIGHT
TZOFFSETFROM:+0100
TZOFFSETTO:+0200
TZNAME:CEST
DTSTART:20190331T010000
END:DAYLIGHT
BEGIN:STANDARD
TZOFFSETFROM:+0200
TZOFFSETTO:+0100
TZNAME:CET
DTSTART:20191027T010000
END:STANDARD
BEGIN:DAYLIGHT
TZOFFSETFROM:+0100
TZOFFSETTO:+0200
TZNAME:CEST
DTSTART:20200329T010000
END:DAYLIGHT
BEGIN:STANDARD
TZOFFSETFROM:+0200
TZOFFSETTO:+0100
TZNAME:CET
DTSTART:20201025T010000
END:STANDARD
END:VTIMEZONE
BEGIN:VEVENT
DTSTART;TZID=Europe/Berlin:20190626T193000
DTEND;TZID=Europe/Berlin:20190626T220000
DTSTAMP:20260422T110404
CREATED:20190607T204840Z
LAST-MODIFIED:20190607T205031Z
UID:2396-1561577400-1561586400@www.dorf-huelsenbusch.de
SUMMARY:5. Generalversammlung Gaststätte Jäger eG
DESCRIPTION:im Gemeindehaus Gummersbach\, Einlass 19:30\, Beginn 20:00 Uhr \nDie Genossenschaft freut sich über rege Teilnahme der Mitgliedergenossen!
URL:https://www.dorf-huelsenbusch.de/event/generalversammlung-gaststaette-jaeger-eg/
LOCATION:ev. Kirche/ ev. Gemeindehaus\, Otto-Gebühr-Platz 2-4\, Gummersbach\, 51647\, Deutschland
ORGANIZER;CN="Gastst%C3%A4tte J%C3%A4ger eG":MAILTO:ichmachmit@vir2al.de
END:VEVENT
END:VCALENDAR