BEGIN:VCALENDAR
VERSION:2.0
PRODID:-//Dorfgemeinschaft Hülsenbusch - ECPv6.15.14//NONSGML v1.0//EN
CALSCALE:GREGORIAN
METHOD:PUBLISH
X-ORIGINAL-URL:https://www.dorf-huelsenbusch.de
X-WR-CALDESC:Veranstaltungen für Dorfgemeinschaft Hülsenbusch
REFRESH-INTERVAL;VALUE=DURATION:PT1H
X-Robots-Tag:noindex
X-PUBLISHED-TTL:PT1H
BEGIN:VTIMEZONE
TZID:Europe/Berlin
BEGIN:DAYLIGHT
TZOFFSETFROM:+0100
TZOFFSETTO:+0200
TZNAME:CEST
DTSTART:20180325T010000
END:DAYLIGHT
BEGIN:STANDARD
TZOFFSETFROM:+0200
TZOFFSETTO:+0100
TZNAME:CET
DTSTART:20181028T010000
END:STANDARD
BEGIN:DAYLIGHT
TZOFFSETFROM:+0100
TZOFFSETTO:+0200
TZNAME:CEST
DTSTART:20190331T010000
END:DAYLIGHT
BEGIN:STANDARD
TZOFFSETFROM:+0200
TZOFFSETTO:+0100
TZNAME:CET
DTSTART:20191027T010000
END:STANDARD
BEGIN:DAYLIGHT
TZOFFSETFROM:+0100
TZOFFSETTO:+0200
TZNAME:CEST
DTSTART:20200329T010000
END:DAYLIGHT
BEGIN:STANDARD
TZOFFSETFROM:+0200
TZOFFSETTO:+0100
TZNAME:CET
DTSTART:20201025T010000
END:STANDARD
END:VTIMEZONE
BEGIN:VEVENT
DTSTART;TZID=Europe/Berlin:20190604T100000
DTEND;TZID=Europe/Berlin:20190604T140000
DTSTAMP:20260420T085135
CREATED:20190510T143145Z
LAST-MODIFIED:20190510T143145Z
UID:564-1559642400-1559656800@www.dorf-huelsenbusch.de
SUMMARY:Markt
DESCRIPTION:
URL:https://www.dorf-huelsenbusch.de/event/markt-6/
LOCATION:Otto-Gebühr-Platz\, Otto-Gebühr-Platz\, Gummersbach\, NRW\, 51647\, Deutschland
ATTACH;FMTTYPE=image/jpeg:https://www.dorf-huelsenbusch.de/wp-content/uploads/2019/04/Markt_Gemuese-e1556459271344.jpg
END:VEVENT
BEGIN:VEVENT
DTSTART;TZID=Europe/Berlin:20190604T190000
DTEND;TZID=Europe/Berlin:20190604T200000
DTSTAMP:20260420T085135
CREATED:20190507T190747Z
LAST-MODIFIED:20190507T190747Z
UID:518-1559674800-1559678400@www.dorf-huelsenbusch.de
SUMMARY:Logo AG
DESCRIPTION:Die Logo AG trifft sich um ein neues Dorfmotto zu finden….
URL:https://www.dorf-huelsenbusch.de/event/logo-ag/
LOCATION:Gaststätte Jäger eG\, Schwarzenberger Str. 41\, Gummersbach\, 51647
END:VEVENT
END:VCALENDAR