BEGIN:VCALENDAR
VERSION:2.0
PRODID:-//Dorfgemeinschaft Hülsenbusch - ECPv6.15.14//NONSGML v1.0//EN
CALSCALE:GREGORIAN
METHOD:PUBLISH
X-WR-CALNAME:Dorfgemeinschaft Hülsenbusch
X-ORIGINAL-URL:https://www.dorf-huelsenbusch.de
X-WR-CALDESC:Veranstaltungen für Dorfgemeinschaft Hülsenbusch
REFRESH-INTERVAL;VALUE=DURATION:PT1H
X-Robots-Tag:noindex
X-PUBLISHED-TTL:PT1H
BEGIN:VTIMEZONE
TZID:Europe/Berlin
BEGIN:DAYLIGHT
TZOFFSETFROM:+0100
TZOFFSETTO:+0200
TZNAME:CEST
DTSTART:20180325T010000
END:DAYLIGHT
BEGIN:STANDARD
TZOFFSETFROM:+0200
TZOFFSETTO:+0100
TZNAME:CET
DTSTART:20181028T010000
END:STANDARD
BEGIN:DAYLIGHT
TZOFFSETFROM:+0100
TZOFFSETTO:+0200
TZNAME:CEST
DTSTART:20190331T010000
END:DAYLIGHT
BEGIN:STANDARD
TZOFFSETFROM:+0200
TZOFFSETTO:+0100
TZNAME:CET
DTSTART:20191027T010000
END:STANDARD
BEGIN:DAYLIGHT
TZOFFSETFROM:+0100
TZOFFSETTO:+0200
TZNAME:CEST
DTSTART:20200329T010000
END:DAYLIGHT
BEGIN:STANDARD
TZOFFSETFROM:+0200
TZOFFSETTO:+0100
TZNAME:CET
DTSTART:20201025T010000
END:STANDARD
END:VTIMEZONE
BEGIN:VEVENT
DTSTART;TZID=Europe/Berlin:20190427T110000
DTEND;TZID=Europe/Berlin:20190427T140000
DTSTAMP:20260422T140103
CREATED:20190426T200020Z
LAST-MODIFIED:20190426T200848Z
UID:37-1556362800-1556373600@www.dorf-huelsenbusch.de
SUMMARY:Tag der offenen Tür im Alten Rathaus in Hülsenbusch
DESCRIPTION:Wohnen im schönsten Dorf der Welt?!\n \nTag der offenen Tür im Alten Rathaus in Hülsenbusch.\n \n\n \nDie Wohnungen im Alten Rathaus sind ab Juni bezugsfertig und können am 27.04.2019 von 11-14 Uhr besichtigt werden. Nähere Informationen zu den Wohnungen finden Sie auf ImmobilienScout 24.\nDirekten Kontakt zum Eigentümer und Vermieter gibt es unter rathaus-huelsenbusch@gmx.de.
URL:https://www.dorf-huelsenbusch.de/event/tag-der-offenen-tuer-im-alten-rathaus-in-huelsenbusch/
LOCATION:Altes Rathaus Hülsenbusch\, Schwarzenberger Str 28\, Gummersbach\, 51647
END:VEVENT
END:VCALENDAR